BEGIN:VCALENDAR
VERSION:2.0
PRODID:-//FIT Newsroom - ECPv6.11.2//NONSGML v1.0//EN
CALSCALE:GREGORIAN
METHOD:PUBLISH
X-ORIGINAL-URL:https://news.fitnyc.edu
X-WR-CALDESC:Events for FIT Newsroom
REFRESH-INTERVAL;VALUE=DURATION:PT1H
X-Robots-Tag:noindex
X-PUBLISHED-TTL:PT1H
BEGIN:VTIMEZONE
TZID:America/New_York
BEGIN:DAYLIGHT
TZOFFSETFROM:-0500
TZOFFSETTO:-0400
TZNAME:EDT
DTSTART:20190310T070000
END:DAYLIGHT
BEGIN:STANDARD
TZOFFSETFROM:-0400
TZOFFSETTO:-0500
TZNAME:EST
DTSTART:20191103T060000
END:STANDARD
BEGIN:DAYLIGHT
TZOFFSETFROM:-0500
TZOFFSETTO:-0400
TZNAME:EDT
DTSTART:20200308T070000
END:DAYLIGHT
BEGIN:STANDARD
TZOFFSETFROM:-0400
TZOFFSETTO:-0500
TZNAME:EST
DTSTART:20201101T060000
END:STANDARD
BEGIN:DAYLIGHT
TZOFFSETFROM:-0500
TZOFFSETTO:-0400
TZNAME:EDT
DTSTART:20210314T070000
END:DAYLIGHT
BEGIN:STANDARD
TZOFFSETFROM:-0400
TZOFFSETTO:-0500
TZNAME:EST
DTSTART:20211107T060000
END:STANDARD
BEGIN:DAYLIGHT
TZOFFSETFROM:-0500
TZOFFSETTO:-0400
TZNAME:EDT
DTSTART:20220313T070000
END:DAYLIGHT
BEGIN:STANDARD
TZOFFSETFROM:-0400
TZOFFSETTO:-0500
TZNAME:EST
DTSTART:20221106T060000
END:STANDARD
BEGIN:DAYLIGHT
TZOFFSETFROM:-0500
TZOFFSETTO:-0400
TZNAME:EDT
DTSTART:20230312T070000
END:DAYLIGHT
BEGIN:STANDARD
TZOFFSETFROM:-0400
TZOFFSETTO:-0500
TZNAME:EST
DTSTART:20231105T060000
END:STANDARD
BEGIN:DAYLIGHT
TZOFFSETFROM:-0500
TZOFFSETTO:-0400
TZNAME:EDT
DTSTART:20240310T070000
END:DAYLIGHT
BEGIN:STANDARD
TZOFFSETFROM:-0400
TZOFFSETTO:-0500
TZNAME:EST
DTSTART:20241103T060000
END:STANDARD
BEGIN:DAYLIGHT
TZOFFSETFROM:-0500
TZOFFSETTO:-0400
TZNAME:EDT
DTSTART:20250309T070000
END:DAYLIGHT
BEGIN:STANDARD
TZOFFSETFROM:-0400
TZOFFSETTO:-0500
TZNAME:EST
DTSTART:20251102T060000
END:STANDARD
END:VTIMEZONE
BEGIN:VEVENT
DTSTART;VALUE=DATE:20250201
DTEND;VALUE=DATE:20250202
DTSTAMP:20260423T165432
CREATED:20250130T220722Z
LAST-MODIFIED:20250130T220928Z
UID:10007588-1738368000-1738454399@news.fitnyc.edu
SUMMARY:Virtual Gallery and Exhibit: Ann Lowe’s Life and Legacy as an American Couturier — Opens
DESCRIPTION:February 1–28\, 2025\nFeldman Center Lobby \nIn celebration of Black History Month 2025\, this virtual gallery exhibit (which is displayed on a screen in the Feldman lobby and available online) pays tribute to Ann Lowe\, a pioneering American couturier\, by showcasing five of her exquisite couture designs\, spanning the 1940s to 1960s. Highlights include four pieces from The Museum at FIT and Jacqueline Kennedy’s iconic wedding gown. \nRenowned for her meticulous craftsmanship\, luxurious fabrics\, and intricate handwork\, Lowe seamlessly blended tradition with innovation. Her remarkable talent and resilience broke barriers in the fashion industry\, inspiring future generations and solidifying her legacy as a trailblazer in fashion history. \nLearn more in the video below. \n\n3D Virtual Gallery and Garment Creator: Professor Jennifer Lee\, Fashion Business Management \nThis event is part of the FIT Diversity Collective’s Black History Month activities; for a full schedule of activities\, visit fitnyc.edu/blackhistory. \nThis exhibition is for the FIT community only; members of the public may access the exhibition by presenting their government ID and signing in with Public Safety at the Feldman Center entrance. 
URL:https://news.fitnyc.edu/event/the-virtual-gallery-ann-lowes-life-and-legacy-as-an-american-couturier/
LOCATION:Feldman Center Lobby\, Marvin Feldman Center\, New York City\, NY\, 10001\, United States
CATEGORIES:Exhibition,Online Event
ORGANIZER;CN="Jennifer Lee":MAILTO:jennifer_lee5@fitnyc.edu
GEO:40.7473893;-73.9948645
X-APPLE-STRUCTURED-LOCATION;VALUE=URI;X-ADDRESS=Feldman Center Lobby Marvin Feldman Center New York City NY 10001 United States;X-APPLE-RADIUS=500;X-TITLE=Marvin Feldman Center:geo:-73.9948645,40.7473893
END:VEVENT
BEGIN:VEVENT
DTSTART;VALUE=DATE:20241204
DTEND;VALUE=DATE:20241205
DTSTAMP:20260423T165433
CREATED:20241112T212203Z
LAST-MODIFIED:20241112T212203Z
UID:10007538-1733270400-1733356799@news.fitnyc.edu
SUMMARY:The Loop for Good 2024: Virtual Vogue — Closes
DESCRIPTION:November 4–December 4\, 2024\nFeldman Center Lobby \nFIT’s sixth annual Loop for Good project includes virtual try-ons (make a link) of student-designed sportswear\, couture garments\, scarves and handbags crafted as both physical pieces and 3-D models. A collegewide interdisciplinary experiential learning project focused on sustainability and technology\, Loop for Good showcases the potentials of emerging technologies for advancing environmental sustainability. \nThis exhibition is for the FIT community only.
URL:https://news.fitnyc.edu/event/the-loop-for-good-2024-virtual-vogue-closes/
LOCATION:Feldman Center Lobby\, Marvin Feldman Center\, New York City\, NY\, 10001\, United States
CATEGORIES:Exhibition
ORGANIZER;CN="Jennifer Lee":MAILTO:jennifer_lee5@fitnyc.edu
GEO:40.7473893;-73.9948645
X-APPLE-STRUCTURED-LOCATION;VALUE=URI;X-ADDRESS=Feldman Center Lobby Marvin Feldman Center New York City NY 10001 United States;X-APPLE-RADIUS=500;X-TITLE=Marvin Feldman Center:geo:-73.9948645,40.7473893
END:VEVENT
BEGIN:VEVENT
DTSTART;VALUE=DATE:20241104
DTEND;VALUE=DATE:20241105
DTSTAMP:20260423T165433
CREATED:20241112T212055Z
LAST-MODIFIED:20241112T212156Z
UID:10007537-1730678400-1730764799@news.fitnyc.edu
SUMMARY:The Loop for Good 2024: Virtual Vogue — Opens
DESCRIPTION:November 4–December 4\, 2024\nFeldman Center Lobby \nFIT’s sixth annual Loop for Good project includes virtual try-ons (make a link) of student-designed sportswear\, couture garments\, scarves and handbags crafted as both physical pieces and 3-D models. A collegewide interdisciplinary experiential learning project focused on sustainability and technology\, Loop for Good showcases the potentials of emerging technologies for advancing environmental sustainability. \nThis exhibition is for the FIT community only.
URL:https://news.fitnyc.edu/event/the-loop-for-good-2024-virtual-vogue/
LOCATION:Feldman Center Lobby\, Marvin Feldman Center\, New York City\, NY\, 10001\, United States
CATEGORIES:Exhibition
ORGANIZER;CN="Jennifer Lee":MAILTO:jennifer_lee5@fitnyc.edu
GEO:40.7473893;-73.9948645
X-APPLE-STRUCTURED-LOCATION;VALUE=URI;X-ADDRESS=Feldman Center Lobby Marvin Feldman Center New York City NY 10001 United States;X-APPLE-RADIUS=500;X-TITLE=Marvin Feldman Center:geo:-73.9948645,40.7473893
END:VEVENT
BEGIN:VEVENT
DTSTART;VALUE=DATE:20231015
DTEND;VALUE=DATE:20231016
DTSTAMP:20260423T165433
CREATED:20230912T160223Z
LAST-MODIFIED:20230912T160223Z
UID:10007366-1697328000-1697414399@news.fitnyc.edu
SUMMARY:The Loop for Good: 2023 Annual Sustainable Design Exhibition — Closes
DESCRIPTION:September 16–October 15\, 2023\nThe Museum at FIT\, Gallery FIT \nFounded in 2019\, the Loop for Good is a collegewide interdisciplinary experiential learning project focused on sustainability and technology. This year’s exhibition celebrates the fifth anniversary of the Loop for Good. The exhibition theme is “Digital Athletes for Sportsmanship” to promote respect\, ethics\, and fellowship in a broader community. Each participating student artist integrated academic research\, creativity\, innovation\, digital design technologies\, and the art of physical craftsmanship into the presented work. \nFIT programs involved in the exhibition are: \n\nFashion Business Management\nTechnical Design\nCosmetics and Fragrance Marketing\nTextile Development and Marketing\nFootwear and Accessories Design\nTextile/Surface Design\nSpatial Experience Design\nJewelry Design\n\nThis exhibition is free and open to the public. 
URL:https://news.fitnyc.edu/event/the-loop-for-good-2023-annual-sustainable-design-exhibition-closes/
LOCATION:Gallery FIT\, The Museum at FIT\, Fashion Institute of Technology\, New York City\, NY\, 10001\, United States
CATEGORIES:Exhibition,Public
ORGANIZER;CN="Jennifer Lee":MAILTO:jennifer_lee5@fitnyc.edu
GEO:40.7536854;-73.9991637
X-APPLE-STRUCTURED-LOCATION;VALUE=URI;X-ADDRESS=Gallery FIT The Museum at FIT Fashion Institute of Technology New York City NY 10001 United States;X-APPLE-RADIUS=500;X-TITLE=Fashion Institute of Technology:geo:-73.9991637,40.7536854
END:VEVENT
BEGIN:VEVENT
DTSTART;VALUE=DATE:20230916
DTEND;VALUE=DATE:20230917
DTSTAMP:20260423T165433
CREATED:20230912T160019Z
LAST-MODIFIED:20230912T160019Z
UID:10007365-1694822400-1694908799@news.fitnyc.edu
SUMMARY:The Loop for Good: 2023 Annual Sustainable Design Exhibition — Opens
DESCRIPTION:September 16–October 15\, 2023\nThe Museum at FIT\, Gallery FIT \nFounded in 2019\, the Loop for Good is a collegewide interdisciplinary experiential learning project focused on sustainability and technology. This year’s exhibition celebrates the fifth anniversary of the Loop for Good. The exhibition theme is “Digital Athletes for Sportsmanship” to promote respect\, ethics\, and fellowship in a broader community. Each participating student artist integrated academic research\, creativity\, innovation\, digital design technologies\, and the art of physical craftsmanship into the presented work. \nFIT programs involved in the exhibition are: \n\nFashion Business Management\nTechnical Design\nCosmetics and Fragrance Marketing\nTextile Development and Marketing\nFootwear and Accessories Design\nTextile/Surface Design\nSpatial Experience Design\nJewelry Design\n\nThis exhibition is free and open to the public. 
URL:https://news.fitnyc.edu/event/the-loop-for-good-2023-annual-sustainable-design-exhibition-opens/
LOCATION:Gallery FIT\, The Museum at FIT\, Fashion Institute of Technology\, New York City\, NY\, 10001\, United States
CATEGORIES:Exhibition,Public
ORGANIZER;CN="Jennifer Lee":MAILTO:jennifer_lee5@fitnyc.edu
GEO:40.7536854;-73.9991637
X-APPLE-STRUCTURED-LOCATION;VALUE=URI;X-ADDRESS=Gallery FIT The Museum at FIT Fashion Institute of Technology New York City NY 10001 United States;X-APPLE-RADIUS=500;X-TITLE=Fashion Institute of Technology:geo:-73.9991637,40.7536854
END:VEVENT
BEGIN:VEVENT
DTSTART;VALUE=DATE:20230227
DTEND;VALUE=DATE:20230228
DTSTAMP:20260423T165433
CREATED:20230119T212127Z
LAST-MODIFIED:20230209T215335Z
UID:10006753-1677456000-1677542399@news.fitnyc.edu
SUMMARY:Exhibition: The Legacy: Diversity Meets Technology — Closes
DESCRIPTION:February 15–27\nThe Museum at FIT Lobby \nThis project is a collegewide experiential learning project supported by a President’s Diversity Grant focused on emerging technologies contributing to diversity and inclusion in wider society. Through the 3D-animated garment visualization video and physical garment exhibition\, this project is to showcase the history of dress and unique cultural heritage of different countries including the U.S. Focused on the BIPOC (Black\, Indigenous and People of Color) countries\, the eight students across the college with diverse cultural backgrounds will present their 3D garments and physical garments that were created throughout the project. \nThis event is part of the FIT Diversity Collective’s Black History Month activities; for a full schedule of activities\, visit fitnyc.edu/blackhistory. \nThis exhibition is free and open to the public. 
URL:https://news.fitnyc.edu/event/exhibition-the-legacy-diversity-meets-technology-closes/
LOCATION:Goodman Center Lobby\, 227 West 27th Street\, New York City\, NY\, 10001\, United States
CATEGORIES:Exhibition
ORGANIZER;CN="Jennifer Lee":MAILTO:jennifer_lee5@fitnyc.edu
END:VEVENT
BEGIN:VEVENT
DTSTART;VALUE=DATE:20230210
DTEND;VALUE=DATE:20230211
DTSTAMP:20260423T165433
CREATED:20230119T203615Z
LAST-MODIFIED:20230210T202058Z
UID:10006748-1675987200-1676073599@news.fitnyc.edu
SUMMARY:Exhibition: The Legacy: Diversity Meets Technology — Opens
DESCRIPTION:February 10–27\nThe Museum at FIT Lobby \nThis project is a collegewide experiential learning project supported by a President’s Diversity Grant focused on emerging technologies contributing to diversity and inclusion in wider society. Through the 3D-animated garment visualization video and physical garment exhibition\, this project is to showcase the history of dress and unique cultural heritage of different countries including the U.S. Focused on the BIPOC (Black\, Indigenous and People of Color) countries\, the eight students across the college with diverse cultural backgrounds will present their 3D garments and physical garments that were created throughout the project. \nThis event is part of the FIT Diversity Collective’s Black History Month activities; for a full schedule of activities\, visit fitnyc.edu/blackhistory. \nThis exhibition is free and open to the public. 
URL:https://news.fitnyc.edu/event/exhibition-the-legacy-diversity-meets-technology-opens/
LOCATION:Goodman Center Lobby\, 227 West 27th Street\, New York City\, NY\, 10001\, United States
CATEGORIES:Exhibition,Public
ORGANIZER;CN="Jennifer Lee":MAILTO:jennifer_lee5@fitnyc.edu
END:VEVENT
BEGIN:VEVENT
DTSTART;TZID=America/New_York:20191121T130000
DTEND;TZID=America/New_York:20191121T210000
DTSTAMP:20260423T165433
CREATED:20191105T160950Z
LAST-MODIFIED:20191105T161124Z
UID:10006890-1574341200-1574370000@news.fitnyc.edu
SUMMARY:The Loop for Good: Sustainable Fashion Pop-Up and Clothing Swap
DESCRIPTION:The Loop for Good: Sustainable Fashion Pop-Up at the Fashion Institute of Technology is a clothing swap created to promote circularity in the fashion industry and encourage consumers to reuse and recycle their clothing. The event will also present information about sustainable practices via immersive technology such as augmented reality. \nTest your knowledge on sustainability and take a chance to win raffle prizes such as naturally made lip balm from FIT’s beehives\, essential oils\, and hand-sewn tote bags\, as well as gift certificates to industry partners Century 21\, Buffalo Exchange\, and Swim USA. \nAn immersive technology booth will feature various augmented reality games and interactions to further illustrate sustainable practices in the industry. \nTo participate in this event\, bring slightly used articles of clothing and or handbags in exchange for an e-ticket. Lightly used good condition clothing will earn one (1) e-ticket. Any new item with a tag will receive two (2) e-tickets. All items must be washed. Clothing and handbags only—no accessories or shoes.  Disclosure: We reserve the right to refuse donations. Refused donations will be handed back to the donor. All donations are final.  \nThis is a NO cash transaction event. All transactions will be made with e-tickets. E-tickets are only received by donating. \nSwapping times:\nWednesday\, November 20\, 2–7 pm\nThursday\, November 21\, 1–9 pm \nIf you have any questions\, contact fitpopupchair@gmail.com. \nThis event is free and open to the public. 
URL:https://news.fitnyc.edu/event/the-loop-for-good-sustainable-fashion-pop-up-and-clothing-swap-2/
LOCATION:Pomerantz Center\, First Floor\, 227 W. 27th St.\, New York\, NY\, 10001
CATEGORIES:bazaar,Expo,Public
ORGANIZER;CN="Jennifer Lee":MAILTO:jennifer_lee5@fitnyc.edu
GEO:40.7472258;-73.9948612
X-APPLE-STRUCTURED-LOCATION;VALUE=URI;X-ADDRESS=Pomerantz Center First Floor 227 W. 27th St. New York NY 10001;X-APPLE-RADIUS=500;X-TITLE=227 W. 27th St.:geo:-73.9948612,40.7472258
END:VEVENT
BEGIN:VEVENT
DTSTART;TZID=America/New_York:20191120T140000
DTEND;TZID=America/New_York:20191120T190000
DTSTAMP:20260423T165433
CREATED:20191105T160805Z
LAST-MODIFIED:20191113T170412Z
UID:10006888-1574258400-1574276400@news.fitnyc.edu
SUMMARY:The Loop for Good: Sustainable Fashion Pop-Up and Clothing Swap
DESCRIPTION:The Loop for Good: Sustainable Fashion Pop-Up at the Fashion Institute of Technology is a clothing swap created to promote circularity in the fashion industry and encourage consumers to reuse and recycle their clothing. The event will also present information about sustainable practices via immersive technology such as augmented reality. \nTest your knowledge on sustainability and take a chance to win raffle prizes such as naturally made lip balm from FIT’s beehives\, essential oils\, and hand-sewn tote bags\, as well as gift certificates to industry partners Century 21\, Buffalo Exchange\, and Swim USA. \nAn immersive technology booth will feature various augmented reality games and interactions to further illustrate sustainable practices in the industry. \nTo participate in this event\, bring slightly used articles of clothing and or handbags in exchange for an e-ticket. Lightly used good condition clothing will earn one (1) e-ticket. Any new item with a tag will receive two (2) e-tickets. All items must be washed. Clothing and handbags only—no accessories or shoes.  Disclosure: We reserve the right to refuse donations. Refused donations will be handed back to the donor. All donations are final.  \nThis is a NO CASH transaction event; all transactions will be made with e-tickets. E-tickets are only received by donating. \nSwapping times:\nWednesday\, November 20\, 2–7 pm\nThursday\, November 21\, 1–9 pm \nIf you have any questions\, contact fitpopupchair@gmail.com. \nThis event is free and open to the public. 
URL:https://news.fitnyc.edu/event/the-loop-for-good-sustainable-fashion-pop-up-and-clothing-swap/
LOCATION:Pomerantz Center\, First Floor\, 227 W. 27th St.\, New York\, NY\, 10001
CATEGORIES:bazaar,Expo,Fashion Show,Public
ORGANIZER;CN="Jennifer Lee":MAILTO:jennifer_lee5@fitnyc.edu
GEO:40.7472258;-73.9948612
X-APPLE-STRUCTURED-LOCATION;VALUE=URI;X-ADDRESS=Pomerantz Center First Floor 227 W. 27th St. New York NY 10001;X-APPLE-RADIUS=500;X-TITLE=227 W. 27th St.:geo:-73.9948612,40.7472258
END:VEVENT
END:VCALENDAR